BEGIN:VCALENDAR
VERSION:2.0
PRODID:-//Phoenix Park - ECPv6.15.20//NONSGML v1.0//EN
CALSCALE:GREGORIAN
METHOD:PUBLISH
X-WR-CALNAME:Phoenix Park
X-ORIGINAL-URL:https://www.phoenixpark.ie
X-WR-CALDESC:Events for Phoenix Park
REFRESH-INTERVAL;VALUE=DURATION:PT1H
X-Robots-Tag:noindex
X-PUBLISHED-TTL:PT1H
BEGIN:VTIMEZONE
TZID:Europe/Dublin
BEGIN:STANDARD
TZOFFSETFROM:+0000
TZOFFSETTO:+0100
TZNAME:IST
DTSTART:20220327T010000
END:STANDARD
BEGIN:DAYLIGHT
TZOFFSETFROM:+0100
TZOFFSETTO:+0000
TZNAME:GMT
DTSTART:20221030T010000
END:DAYLIGHT
BEGIN:STANDARD
TZOFFSETFROM:+0000
TZOFFSETTO:+0100
TZNAME:IST
DTSTART:20230326T010000
END:STANDARD
BEGIN:DAYLIGHT
TZOFFSETFROM:+0100
TZOFFSETTO:+0000
TZNAME:GMT
DTSTART:20231029T010000
END:DAYLIGHT
BEGIN:STANDARD
TZOFFSETFROM:+0000
TZOFFSETTO:+0100
TZNAME:IST
DTSTART:20240331T010000
END:STANDARD
BEGIN:DAYLIGHT
TZOFFSETFROM:+0100
TZOFFSETTO:+0000
TZNAME:GMT
DTSTART:20241027T010000
END:DAYLIGHT
END:VTIMEZONE
BEGIN:VEVENT
DTSTART;VALUE=DATE:20230302
DTEND;VALUE=DATE:20230331
DTSTAMP:20260422T095800
CREATED:20230330T160804Z
LAST-MODIFIED:20230330T160804Z
UID:5535-1677715200-1680220799@www.phoenixpark.ie
SUMMARY:Art Exhibition by Margaret Farrell
DESCRIPTION:Why not pop in to the Phoenix Park Visitor Centre to view the beautiful art exhibition ‘The Beauty of Trees‘ by Margaret Farrell\, which features the Phoenix Park? \nThis exhibition runs from Thursday\, 2nd March to Thursday\, 30th March 2023.
URL:https://www.phoenixpark.ie/events/art-exhibition-by-margaret-farrell/
LOCATION:Phoenix Park Visitor Centre  and Ashtown Castle\, Dublin\, D08 Y304\, Ireland
ATTACH;FMTTYPE=image/jpeg:https://www.phoenixpark.ie/../../../bitnami/wordpress/wp-content/uploads/2023/03/12-1.jpg
END:VEVENT
END:VCALENDAR