BEGIN:VCALENDAR
VERSION:2.0
PRODID:-//Phoenix Park - ECPv6.15.20//NONSGML v1.0//EN
CALSCALE:GREGORIAN
METHOD:PUBLISH
X-WR-CALNAME:Phoenix Park
X-ORIGINAL-URL:https://www.phoenixpark.ie
X-WR-CALDESC:Events for Phoenix Park
REFRESH-INTERVAL;VALUE=DURATION:PT1H
X-Robots-Tag:noindex
X-PUBLISHED-TTL:PT1H
BEGIN:VTIMEZONE
TZID:Europe/Dublin
BEGIN:STANDARD
TZOFFSETFROM:+0000
TZOFFSETTO:+0100
TZNAME:IST
DTSTART:20240331T010000
END:STANDARD
BEGIN:DAYLIGHT
TZOFFSETFROM:+0100
TZOFFSETTO:+0000
TZNAME:GMT
DTSTART:20241027T010000
END:DAYLIGHT
BEGIN:STANDARD
TZOFFSETFROM:+0000
TZOFFSETTO:+0100
TZNAME:IST
DTSTART:20250330T010000
END:STANDARD
BEGIN:DAYLIGHT
TZOFFSETFROM:+0100
TZOFFSETTO:+0000
TZNAME:GMT
DTSTART:20251026T010000
END:DAYLIGHT
BEGIN:STANDARD
TZOFFSETFROM:+0000
TZOFFSETTO:+0100
TZNAME:IST
DTSTART:20260329T010000
END:STANDARD
BEGIN:DAYLIGHT
TZOFFSETFROM:+0100
TZOFFSETTO:+0000
TZNAME:GMT
DTSTART:20261025T010000
END:DAYLIGHT
END:VTIMEZONE
BEGIN:VEVENT
DTSTART;TZID=Europe/Dublin:20250206T093000
DTEND;TZID=Europe/Dublin:20250227T170000
DTSTAMP:20260420T081114
CREATED:20250218T104055Z
LAST-MODIFIED:20250218T104055Z
UID:7026-1738834200-1740675600@www.phoenixpark.ie
SUMMARY:Exhibition by The Irish Patchwork Society
DESCRIPTION:An Exhibition ‘Hands Across the Border – One World’ is being held by the Irish Patchwork Society \nDates: From 6th to 27th February 2025 \nLocation: Phoenix Park Visitor Centre \nAdmission: Free
URL:https://www.phoenixpark.ie/events/exhibition-by-the-irish-patchwork-society/
LOCATION:Phoenix Park Visitor Centre  and Ashtown Castle\, Dublin\, D08 Y304\, Ireland
ORGANIZER;CN="Phoenix Park Visitor Centre":MAILTO:phoenixparkvisitorcentre@opw.ie
END:VEVENT
BEGIN:VEVENT
DTSTART;TZID=Europe/Dublin:20250206T093000
DTEND;TZID=Europe/Dublin:20250330T170000
DTSTAMP:20260420T081114
CREATED:20250218T103805Z
LAST-MODIFIED:20250218T103805Z
UID:7022-1738834200-1743354000@www.phoenixpark.ie
SUMMARY:Spring 2025 Events at the Phoenix Park Visitor Centre
DESCRIPTION:
URL:https://www.phoenixpark.ie/events/spring-2025-events-at-the-phoenix-park-visitor-centre/
LOCATION:Phoenix Park Visitor Centre  and Ashtown Castle\, Dublin\, D08 Y304\, Ireland
ORGANIZER;CN="Phoenix Park Visitor Centre":MAILTO:phoenixparkvisitorcentre@opw.ie
END:VEVENT
END:VCALENDAR