BEGIN:VCALENDAR
VERSION:2.0
PRODID:-//Phoenix Park - ECPv6.15.20//NONSGML v1.0//EN
CALSCALE:GREGORIAN
METHOD:PUBLISH
X-WR-CALNAME:Phoenix Park
X-ORIGINAL-URL:https://www.phoenixpark.ie
X-WR-CALDESC:Events for Phoenix Park
REFRESH-INTERVAL;VALUE=DURATION:PT1H
X-Robots-Tag:noindex
X-PUBLISHED-TTL:PT1H
BEGIN:VTIMEZONE
TZID:Europe/Dublin
BEGIN:STANDARD
TZOFFSETFROM:+0000
TZOFFSETTO:+0100
TZNAME:IST
DTSTART:20220327T010000
END:STANDARD
BEGIN:DAYLIGHT
TZOFFSETFROM:+0100
TZOFFSETTO:+0000
TZNAME:GMT
DTSTART:20221030T010000
END:DAYLIGHT
BEGIN:STANDARD
TZOFFSETFROM:+0000
TZOFFSETTO:+0100
TZNAME:IST
DTSTART:20230326T010000
END:STANDARD
BEGIN:DAYLIGHT
TZOFFSETFROM:+0100
TZOFFSETTO:+0000
TZNAME:GMT
DTSTART:20231029T010000
END:DAYLIGHT
BEGIN:STANDARD
TZOFFSETFROM:+0000
TZOFFSETTO:+0100
TZNAME:IST
DTSTART:20240331T010000
END:STANDARD
BEGIN:DAYLIGHT
TZOFFSETFROM:+0100
TZOFFSETTO:+0000
TZNAME:GMT
DTSTART:20241027T010000
END:DAYLIGHT
END:VTIMEZONE
BEGIN:VEVENT
DTSTART;TZID=Europe/Dublin:20230219T143000
DTEND;TZID=Europe/Dublin:20230219T143000
DTSTAMP:20260422T170006
CREATED:20230404T131618Z
LAST-MODIFIED:20230404T131623Z
UID:5549-1676817000-1676817000@www.phoenixpark.ie
SUMMARY:An Introduction to Astrophotography
DESCRIPTION:Come along to the Phoenix Park Visitor Centre at 2.30pm on Sunday 19th February 2023 for a free public talk titled ‘An Introduction to Astrophotography’. \nThe talk will be given by Martin McCormack of the Irish Astronomical Society.
URL:https://www.phoenixpark.ie/events/an-introduction-to-astrophotography/
LOCATION:Phoenix Park Visitor Centre  and Ashtown Castle\, Dublin\, D08 Y304\, Ireland
ATTACH;FMTTYPE=image/jpeg:https://www.phoenixpark.ie/../../../bitnami/wordpress/wp-content/uploads/2023/02/1-scaled.jpg
END:VEVENT
END:VCALENDAR